BEGIN:VCALENDAR
VERSION:2.0
PRODID:-//Centre for Education and Research on Aging &amp; Health - ECPv6.15.20//NONSGML v1.0//EN
CALSCALE:GREGORIAN
METHOD:PUBLISH
X-ORIGINAL-URL:https://cerah.lakeheadu.ca
X-WR-CALDESC:Events for Centre for Education and Research on Aging &amp; Health
REFRESH-INTERVAL;VALUE=DURATION:PT1H
X-Robots-Tag:noindex
X-PUBLISHED-TTL:PT1H
BEGIN:VTIMEZONE
TZID:America/Toronto
BEGIN:DAYLIGHT
TZOFFSETFROM:-0500
TZOFFSETTO:-0400
TZNAME:EDT
DTSTART:20240310T070000
END:DAYLIGHT
BEGIN:STANDARD
TZOFFSETFROM:-0400
TZOFFSETTO:-0500
TZNAME:EST
DTSTART:20241103T060000
END:STANDARD
BEGIN:DAYLIGHT
TZOFFSETFROM:-0500
TZOFFSETTO:-0400
TZNAME:EDT
DTSTART:20250309T070000
END:DAYLIGHT
BEGIN:STANDARD
TZOFFSETFROM:-0400
TZOFFSETTO:-0500
TZNAME:EST
DTSTART:20251102T060000
END:STANDARD
BEGIN:DAYLIGHT
TZOFFSETFROM:-0500
TZOFFSETTO:-0400
TZNAME:EDT
DTSTART:20260308T070000
END:DAYLIGHT
BEGIN:STANDARD
TZOFFSETFROM:-0400
TZOFFSETTO:-0500
TZNAME:EST
DTSTART:20261101T060000
END:STANDARD
END:VTIMEZONE
BEGIN:VEVENT
DTSTART;TZID=America/Toronto:20251126T083000
DTEND;TZID=America/Toronto:20251127T163000
DTSTAMP:20260421T224820
CREATED:20250829T160256Z
LAST-MODIFIED:20250829T160306Z
UID:16417-1764145800-1764261000@cerah.lakeheadu.ca
SUMMARY:Palliative Care for Frontline Workers - Thunder Bay
DESCRIPTION:What:\nEnhance your skills in delivering exceptional palliative and end-of-life care for patients and caregivers with this 2 day\, 15 hour introductory workshop. All learning materials will be provided to you at the workshop.\n\nTopics Include:\n\n\nSetting the Stage for a Palliative Approach to Care\nWorking with Individuals & Families\nAdvance Care Planning\, Capacity & Consent\nPain\nPhysiology of Dying\nGrief & Bereavement\nHelping Relationships & Self Care\nWorking within a TEAM\n\n\nAs well as case study examples for practical learning!\nWhen:\nNovember 26-27\, 2025\n8:30 AM – 4:30 PM (both days)\nBreakfast\, nutrition breaks & lunch will be provided\nWhere:\nConference Room A\, Bartley Residence\nLakehead University Thunder Bay Campus\nTarget Audience:\nAny health or social care provider working in Northwestern Ontario.\nEducation Team:\nValerie Jensen\, RN\nJessica McAnulty\, RSW\, MSW\nMay Remenda\, Knowledge Broker\nREGISTER NOW BY CLICKING HERE
URL:https://cerah.lakeheadu.ca/event/palliative-care-for-frontline-workers-2/
LOCATION:Bartley Conference Room\, Lakehead University Thunder Bay Campus\, 955 Oliver Road\, Thunder Bay\, Ontario\, P7B5E1\, Canada
ORGANIZER;CN="CERAH":MAILTO:cerah@lakeheadu.ca
END:VEVENT
BEGIN:VEVENT
DTSTART;TZID=America/Toronto:20251127T083000
DTEND;TZID=America/Toronto:20251128T163000
DTSTAMP:20260421T224820
CREATED:20250417T171858Z
LAST-MODIFIED:20250417T185713Z
UID:14048-1764232200-1764347400@cerah.lakeheadu.ca
SUMMARY:LEAP Core Training for Indigenous Communities - London
DESCRIPTION:About LEAP Core:\nPallium Canada’s LEAP Core is a 14-hour\, in-depth course* covering key palliative care competencies\, enhanced with culturally relevant concepts and resources. \n*Certified by the CFPC. Claim up to 28.0 Mainpro+ credits \nAll registration fees are fully sponsored by Indigenous Services Canada (ISC)\, First Nations & Inuit Health Branch – Ontario region. \nWho:\nRegistered health & social care providers working in Ontario who care for Indigenous individuals with a life-limiting illness. \nHow:\nIn-person\, 2-day workshop \nDates & Locations:\nLondon| November 27 – 28\, 2025\nLocation of workshop TBD \nRegistration Deadline: November 14\, 2025 \nSee our Registration Package for more details.\nRegister HERE\nSpots are limited. This training is designed as an active learning experience. Incomplete attendance or non-participation (e.g.\, camera off\, multitasking) may affect your certificate of completion. \nTravel reimbursements are available to those who qualify; see HERE for more information. \nQuestions? Contact Jessica Wyatt at jlwyatt@lakeheadu.ca
URL:https://cerah.lakeheadu.ca/event/14048/
ORGANIZER;CN="CERAH":MAILTO:cerah@lakeheadu.ca
END:VEVENT
END:VCALENDAR