BEGIN:VCALENDAR
VERSION:2.0
PRODID:-//Centre for Education and Research on Aging &amp; Health - ECPv6.15.20//NONSGML v1.0//EN
CALSCALE:GREGORIAN
METHOD:PUBLISH
X-ORIGINAL-URL:https://cerah.lakeheadu.ca
X-WR-CALDESC:Events for Centre for Education and Research on Aging &amp; Health
REFRESH-INTERVAL;VALUE=DURATION:PT1H
X-Robots-Tag:noindex
X-PUBLISHED-TTL:PT1H
BEGIN:VTIMEZONE
TZID:America/Toronto
BEGIN:DAYLIGHT
TZOFFSETFROM:-0500
TZOFFSETTO:-0400
TZNAME:EDT
DTSTART:20250309T070000
END:DAYLIGHT
BEGIN:STANDARD
TZOFFSETFROM:-0400
TZOFFSETTO:-0500
TZNAME:EST
DTSTART:20251102T060000
END:STANDARD
BEGIN:DAYLIGHT
TZOFFSETFROM:-0500
TZOFFSETTO:-0400
TZNAME:EDT
DTSTART:20260308T070000
END:DAYLIGHT
BEGIN:STANDARD
TZOFFSETFROM:-0400
TZOFFSETTO:-0500
TZNAME:EST
DTSTART:20261101T060000
END:STANDARD
BEGIN:DAYLIGHT
TZOFFSETFROM:-0500
TZOFFSETTO:-0400
TZNAME:EDT
DTSTART:20270314T070000
END:DAYLIGHT
BEGIN:STANDARD
TZOFFSETFROM:-0400
TZOFFSETTO:-0500
TZNAME:EST
DTSTART:20271107T060000
END:STANDARD
END:VTIMEZONE
BEGIN:VEVENT
DTSTART;TZID=America/Toronto:20260119T120000
DTEND;TZID=America/Toronto:20260119T130000
DTSTAMP:20260420T235024
CREATED:20251216T152006Z
LAST-MODIFIED:20251216T152006Z
UID:16729-1768824000-1768827600@cerah.lakeheadu.ca
SUMMARY:CERAH Speaker Series with Maaja Sepa
DESCRIPTION:Title:\nThe family picture: A collection of family case studies exploring roles\, relationships\, and identities after a dementia diagnosis and a transition into a long-term care home\n\n\nSession Info:\nResearch exploring the lived experiences of people living with dementia and family members is often overlooked. This study discusses the meaning of family after a transition into a long-term care home and the construct of family at the family and individual levels. This study aimed to explore changes in roles\, relationships\, and identities within and between families along their dementia journeys. The families featured in this study experienced disruptions and transformations of roles\, relationships\, and identities after a family member living with dementia moved into a long-term care home. Both positive and negative changes were described\, which illustrated that dementia was not always a disruptor towards the negative\, but a disruptor toward something new and transformed. \nSpeaker Bio:\nMaaja Sepa\, MHSc\, Specialization in Gerontology\, BSc\nMaaja Sepa holds a Master’s degree in Health Sciences with a specialization in Gerontology from Lakehead University and a Bachelor’s degree in Biomedical Science from the University of Guelph. She works closely with the North West Dementia Working Group and Dementia Café: A Place to Belong\, advocating for meaningful engagement and community support for people living with dementia and their families. Under the supervision of Dr. Elaine Wiersma\, Maaja’s research examined the evolving roles\, relationships\, and identities of people living with dementia and their families following diagnosis and transition into a long-term care home. \nMaaja’s commitment to enhancing the lives of older adults in Northwestern Ontario is rooted in her close bond with her grandmothers. These relationships inspired her lifelong dedication to fostering age-inclusive communities and promoting dignity and belonging for older adults. \nREGISTER FOR THIS FREE WEBINAR BY CLICKING HERE
URL:https://cerah.lakeheadu.ca/event/cerah-speaker-series-with-maaja-sepa/
LOCATION:Zoom
CATEGORIES:Speaker Series
ORGANIZER;CN="CERAH":MAILTO:cerah@lakeheadu.ca
END:VEVENT
END:VCALENDAR