BEGIN:VCALENDAR
VERSION:2.0
PRODID:-//Centre for Education and Research on Aging &amp; Health - ECPv6.15.20//NONSGML v1.0//EN
CALSCALE:GREGORIAN
METHOD:PUBLISH
X-WR-CALNAME:Centre for Education and Research on Aging &amp; Health
X-ORIGINAL-URL:https://cerah.lakeheadu.ca
X-WR-CALDESC:Events for Centre for Education and Research on Aging &amp; Health
REFRESH-INTERVAL;VALUE=DURATION:PT1H
X-Robots-Tag:noindex
X-PUBLISHED-TTL:PT1H
BEGIN:VTIMEZONE
TZID:America/Toronto
BEGIN:DAYLIGHT
TZOFFSETFROM:-0500
TZOFFSETTO:-0400
TZNAME:EDT
DTSTART:20250309T070000
END:DAYLIGHT
BEGIN:STANDARD
TZOFFSETFROM:-0400
TZOFFSETTO:-0500
TZNAME:EST
DTSTART:20251102T060000
END:STANDARD
BEGIN:DAYLIGHT
TZOFFSETFROM:-0500
TZOFFSETTO:-0400
TZNAME:EDT
DTSTART:20260308T070000
END:DAYLIGHT
BEGIN:STANDARD
TZOFFSETFROM:-0400
TZOFFSETTO:-0500
TZNAME:EST
DTSTART:20261101T060000
END:STANDARD
BEGIN:DAYLIGHT
TZOFFSETFROM:-0500
TZOFFSETTO:-0400
TZNAME:EDT
DTSTART:20270314T070000
END:DAYLIGHT
BEGIN:STANDARD
TZOFFSETFROM:-0400
TZOFFSETTO:-0500
TZNAME:EST
DTSTART:20271107T060000
END:STANDARD
END:VTIMEZONE
BEGIN:VEVENT
DTSTART;TZID=America/Toronto:20260212T083000
DTEND;TZID=America/Toronto:20260212T163000
DTSTAMP:20260419T213011
CREATED:20260120T201906Z
LAST-MODIFIED:20260121T145318Z
UID:17052-1770885000-1770913800@cerah.lakeheadu.ca
SUMMARY:Building the Circle of Care: Education for Providers Supporting Indigenous Community Caregivers - Ottawa
DESCRIPTION:In partnership with the Champlain Hospice Palliative Care Program\, Lakehead University’s Centre for Education and Research on Aging & Health (CERAH) is pleased to offer in-person education to health and social care providers working within the Champlain region.\nAbout:\nThis 7-hour course introduces key palliative care concepts\, tools\, and resources from the Walking Alongside Indigenous Peoples who are Seriously Ill curriculum. Participants will gain practical skills to better support and educate community and family caregivers.\nLearning highlights include:\n\n\nRefresher on the palliative approach to care\nGuided overview and hands-on use of the Walking Alongside resource suite\nIntroduction to the Indigenous Family & Community Caregiver Journey Manual—from understanding illness and planning next steps to daily caregiving and supporting quality of life through end of life\n\n\nWhen:\nFebruary 12\, 2026 | 8:30 AM – 4:30 PM\nLunch & two nutrition breaks will be provided\nWhere:\nSt. Margaret’s Church\, 206 Montréal Rd\, Ottawa (Vanier)\nOntario\n\nFacilitators:\nHolly Prince\, Indigenous Social Worker\nSherri Henderson\, Registered Nurse\nKassandra Fernandes\, Curriculum Developer\nJessica Wyatt\, Knowledge Broker\nElder Reverend Cannon Aigah Attagutsiak\n\nSpace is limited! Register for FREE by clicking HERE!\nRegistration closes January 28\, 2026
URL:https://cerah.lakeheadu.ca/event/building-the-circle-of-care-education-for-providers-supporting-indigenous-community-caregivers/
LOCATION:St. Margaret’s Church\, 206 Montreal Rd\, Ottawa\, Ontario\, Canada
CATEGORIES:Special Event
ORGANIZER;CN="CERAH":MAILTO:cerah@lakeheadu.ca
END:VEVENT
END:VCALENDAR