BEGIN:VCALENDAR
VERSION:2.0
PRODID:-//Centre for Education and Research on Aging &amp; Health - ECPv6.15.20//NONSGML v1.0//EN
CALSCALE:GREGORIAN
METHOD:PUBLISH
X-ORIGINAL-URL:https://cerah.lakeheadu.ca
X-WR-CALDESC:Events for Centre for Education and Research on Aging &amp; Health
REFRESH-INTERVAL;VALUE=DURATION:PT1H
X-Robots-Tag:noindex
X-PUBLISHED-TTL:PT1H
BEGIN:VTIMEZONE
TZID:America/Toronto
BEGIN:DAYLIGHT
TZOFFSETFROM:-0500
TZOFFSETTO:-0400
TZNAME:EDT
DTSTART:20240310T070000
END:DAYLIGHT
BEGIN:STANDARD
TZOFFSETFROM:-0400
TZOFFSETTO:-0500
TZNAME:EST
DTSTART:20241103T060000
END:STANDARD
BEGIN:DAYLIGHT
TZOFFSETFROM:-0500
TZOFFSETTO:-0400
TZNAME:EDT
DTSTART:20250309T070000
END:DAYLIGHT
BEGIN:STANDARD
TZOFFSETFROM:-0400
TZOFFSETTO:-0500
TZNAME:EST
DTSTART:20251102T060000
END:STANDARD
BEGIN:DAYLIGHT
TZOFFSETFROM:-0500
TZOFFSETTO:-0400
TZNAME:EDT
DTSTART:20260308T070000
END:DAYLIGHT
BEGIN:STANDARD
TZOFFSETFROM:-0400
TZOFFSETTO:-0500
TZNAME:EST
DTSTART:20261101T060000
END:STANDARD
END:VTIMEZONE
BEGIN:VEVENT
DTSTART;TZID=America/Toronto:20251202T100000
DTEND;TZID=America/Toronto:20251202T130000
DTSTAMP:20260420T001338
CREATED:20250417T173307Z
LAST-MODIFIED:20250417T173307Z
UID:14061-1764669600-1764680400@cerah.lakeheadu.ca
SUMMARY:Continuing the Journey: Palliative Care for Frontline Workers in Indigenous Communities - Online Workshop
DESCRIPTION:About Continuing the Journey:\nThis 6-hour workshop is intermediate-level and a continuation of the concepts discussed in the Palliative Care for Frontline Workers in Indigenous Communities workshops. \nWho:\nHealth & social care providers working in Ontario who have already completed Palliative Care for Frontline Workers in Indigenous Communities. \nHow:\nVirtual delivery (Zoom platform)\, completed over two\, 3-hour sessions \nDates & Times:\nDecember 2\, 9\, 2025 | 10:00 AM – 1:00 PM (both dates)\nRegistration Deadline: November 21\, 2025 \n  \nRegister HERE\nSpots are limited. This training is designed as an active learning experience. Incomplete attendance or non-participation (e.g.\, camera off\, multitasking) may affect your certificate of completion. \nTravel reimbursements are available to those who qualify; see HERE for more information. \nQuestions? Contact Jessica Wyatt at jlwyatt@lakeheadu.ca
URL:https://cerah.lakeheadu.ca/event/continuing-the-journey-palliative-care-for-frontline-workers-in-indigenous-communities-online-workshop/
LOCATION:Zoom
ORGANIZER;CN="CERAH":MAILTO:cerah@lakeheadu.ca
END:VEVENT
BEGIN:VEVENT
DTSTART;TZID=America/Toronto:20251203T120000
DTEND;TZID=America/Toronto:20251203T130000
DTSTAMP:20260420T001338
CREATED:20251020T183928Z
LAST-MODIFIED:20251103T180622Z
UID:16592-1764763200-1764766800@cerah.lakeheadu.ca
SUMMARY:Northwest Grief & Bereavement Community of Practice Education Series: Grief During the Holidays
DESCRIPTION:OPEN TO EVERYONE\n\nThe Northwest Grief & Bereavement Community of Practice Presents:\nGrief During the Holidays with Leanne Davidson\nSession Info:\n\nFor those grieving\, the holidays can entail navigating additional emotional challenges and heightened social anxiety. \nWe will explore the complexities associated with the Christmas season and present a variety of strategies for finding our way through the holidays. \n\nSpeaker:\nLeanne Davidson\,\nAuthor & Blogger\nA Beautiful Pain\, Tattered Hearts and Hopeful Souls\n\nThis webinar is open to anyone needing support with grief & loss.\nREGISTER FOR THIS FREE WEBINAR BY CLICKING HERE
URL:https://cerah.lakeheadu.ca/event/16592/
LOCATION:Zoom
ORGANIZER;CN="CERAH":MAILTO:cerah@lakeheadu.ca
END:VEVENT
END:VCALENDAR